BEGIN:VCALENDAR
VERSION:2.0
PRODID:-//wp-events-plugin.com//7.2.3.1//EN
TZID:America/Guayaquil
X-WR-TIMEZONE:America/Guayaquil
BEGIN:VEVENT
UID:100@ecuadorquideas.com
DTSTART;TZID=Europe/Moscow:20260418T110000
DTEND;TZID=Europe/Moscow:20260419T190000
DTSTAMP:20260220T163015Z
URL:https://ecuadorquideas.com/events/fan-orchid-exposition-saint-petersbu
 rg/
SUMMARY:Fan Orchid exposition SAINT-PETERSBURG
DESCRIPTION:Exhibition and sale of orchids and other exotic plants
LOCATION:Kubatura Shopping Center\, St. Petersburg\, 9 Fuchika Street\, Buk
 harestskaya Metro Station\, Saint Petersburg\, Russia
X-APPLE-STRUCTURED-LOCATION;VALUE=URI;X-ADDRESS=St. Petersburg\, 9 Fuchika 
 Street\, Bukharestskaya Metro Station\, Saint Petersburg\, Russia;X-APPLE-
 RADIUS=100;X-TITLE=Kubatura Shopping Center:geo:0,0
END:VEVENT
BEGIN:VTIMEZONE
TZID:Europe/Moscow
X-LIC-LOCATION:Europe/Moscow
BEGIN:STANDARD
DTSTART:20250418T110000
TZOFFSETFROM:+0300
TZOFFSETTO:+0300
TZNAME:MSK
END:STANDARD
END:VTIMEZONE
END:VCALENDAR