BEGIN:VCALENDAR
VERSION:2.0
PRODID:-//wp-events-plugin.com//7.2.3.1//EN
TZID:America/Guayaquil
X-WR-TIMEZONE:America/Guayaquil
BEGIN:VEVENT
UID:99@ecuadorquideas.com
DTSTART;TZID=America/New_York:20260918T100000
DTEND;TZID=America/New_York:20260920T180000
DTSTAMP:20260219T200546Z
URL:https://ecuadorquideas.com/events/ncos-international-orchids-show-sale
 -2026/
SUMMARY:NCOS INTERNATIONAL ORCHIDS SHOW & SALE 2026
DESCRIPTION:
LOCATION:Montgomery County Fairgrounds\, Building 6\, Hall 3\, 16 Chestnut 
 Street\, Gaithersburg\, Maryland\, United States
X-APPLE-STRUCTURED-LOCATION;VALUE=URI;X-ADDRESS=Building 6\, Hall 3\, 16 Ch
 estnut Street\, Gaithersburg\, Maryland\, United States;X-APPLE-RADIUS=100
 ;X-TITLE=Montgomery County Fairgrounds:geo:0,0
END:VEVENT
BEGIN:VTIMEZONE
TZID:America/New_York
X-LIC-LOCATION:America/New_York
BEGIN:DAYLIGHT
DTSTART:20260308T030000
TZOFFSETFROM:-0500
TZOFFSETTO:-0400
TZNAME:EDT
END:DAYLIGHT
END:VTIMEZONE
END:VCALENDAR