BEGIN:VCALENDAR
VERSION:2.0
PRODID:-//wp-events-plugin.com//7.2.3.1//EN
TZID:America/Guayaquil
X-WR-TIMEZONE:America/Guayaquil
BEGIN:VEVENT
UID:97@ecuadorquideas.com
DTSTART;TZID=America/New_York:20260501T100000
DTEND;TZID=America/New_York:20260503T180000
DTSTAMP:20260219T143648Z
URL:https://ecuadorquideas.com/events/rare-plant-festival/
SUMMARY:Rare Plant Festival
DESCRIPTION:May 1-3\, 2026\n\nEarly admission: 10AM Friday\n\nGeneral admis
 sion: Noon- 6PM Friday\n\n10AM TO 6PM SAT AND SUN
LOCATION:Miami Dade County Fair Expo Center - 10901 SW 24th St\, St\, Miami
 \, FL 33165\, Miami\, Florida\, United States
X-APPLE-STRUCTURED-LOCATION;VALUE=URI;X-ADDRESS=St\, Miami\, FL 33165\, Mia
 mi\, Florida\, United States;X-APPLE-RADIUS=100;X-TITLE=Miami Dade County 
 Fair Expo Center - 10901 SW 24th St:geo:0,0
END:VEVENT
BEGIN:VTIMEZONE
TZID:America/New_York
X-LIC-LOCATION:America/New_York
BEGIN:DAYLIGHT
DTSTART:20260308T030000
TZOFFSETFROM:-0500
TZOFFSETTO:-0400
TZNAME:EDT
END:DAYLIGHT
END:VTIMEZONE
END:VCALENDAR