BEGIN:VCALENDAR
VERSION:2.0
PRODID:-//wp-events-plugin.com//7.2.3.1//EN
TZID:America/Guayaquil
X-WR-TIMEZONE:America/Guayaquil
BEGIN:VEVENT
UID:98@ecuadorquideas.com
DTSTART;TZID=America/New_York:20261016T090000
DTEND;TZID=America/New_York:20261018T170000
DTSTAMP:20260219T152013Z
URL:https://ecuadorquideas.com/events/redland-international-orchid-festiva
 l-2/
SUMMARY:Redland International Orchid Festival
DESCRIPTION:Friday (10/16)\nNoon – 5 PM\nFriday First Admission at 9 am\n
 (Must purchase Friday First ticket)
LOCATION:Fruit & Spice Park\, 24801 SW 187th Ave\, Homestead\, FL 33031\, R
 edland / Homestead\, United States
X-APPLE-STRUCTURED-LOCATION;VALUE=URI;X-ADDRESS=24801 SW 187th Ave\, Homest
 ead\, FL 33031\, Redland / Homestead\, United States;X-APPLE-RADIUS=100;X-
 TITLE=Fruit & Spice Park:geo:0,0
END:VEVENT
BEGIN:VTIMEZONE
TZID:America/New_York
X-LIC-LOCATION:America/New_York
BEGIN:DAYLIGHT
DTSTART:20260308T030000
TZOFFSETFROM:-0500
TZOFFSETTO:-0400
TZNAME:EDT
END:DAYLIGHT
END:VTIMEZONE
END:VCALENDAR